BEGIN:VCALENDAR
VERSION:2.0
PRODID:-//Distinctively Her - ECPv6.15.18//NONSGML v1.0//EN
CALSCALE:GREGORIAN
METHOD:PUBLISH
X-WR-CALNAME:Distinctively Her
X-ORIGINAL-URL:https://distinctivelyher.org
X-WR-CALDESC:Events for Distinctively Her
REFRESH-INTERVAL;VALUE=DURATION:PT1H
X-Robots-Tag:noindex
X-PUBLISHED-TTL:PT1H
BEGIN:VTIMEZONE
TZID:America/Chicago
BEGIN:DAYLIGHT
TZOFFSETFROM:-0600
TZOFFSETTO:-0500
TZNAME:CDT
DTSTART:20250309T080000
END:DAYLIGHT
BEGIN:STANDARD
TZOFFSETFROM:-0500
TZOFFSETTO:-0600
TZNAME:CST
DTSTART:20251102T070000
END:STANDARD
BEGIN:DAYLIGHT
TZOFFSETFROM:-0600
TZOFFSETTO:-0500
TZNAME:CDT
DTSTART:20260308T080000
END:DAYLIGHT
BEGIN:STANDARD
TZOFFSETFROM:-0500
TZOFFSETTO:-0600
TZNAME:CST
DTSTART:20261101T070000
END:STANDARD
BEGIN:DAYLIGHT
TZOFFSETFROM:-0600
TZOFFSETTO:-0500
TZNAME:CDT
DTSTART:20270314T080000
END:DAYLIGHT
BEGIN:STANDARD
TZOFFSETFROM:-0500
TZOFFSETTO:-0600
TZNAME:CST
DTSTART:20271107T070000
END:STANDARD
END:VTIMEZONE
BEGIN:VEVENT
DTSTART;TZID=America/Chicago:20260507T180000
DTEND;TZID=America/Chicago:20260507T200000
DTSTAMP:20260422T161251
CREATED:20260422T003613Z
LAST-MODIFIED:20260422T003613Z
UID:1424-1778176800-1778184000@distinctivelyher.org
SUMMARY:The Power of Prioritizing You | May Mini Masterclass
DESCRIPTION:In today’s fast-paced world\, women are often balancing careers\, family\, relationships\, and countless responsibilities\, frequently placing their own well-being last. The Power of Prioritizing You is an empowering Mini Masterclass designed to shift that narrative and place your health\, wellness\, and wholeness back at the center. \nJoin us for an engaging and honest conversation with Dr. Jill Waggoner and Dr. Quanita Crable\, two trusted voices in women’s health\, as they guide us through what it truly means to prioritize ourselves\, mind\, body\, and beyond. \nThis dynamic session will explore how stress impacts hormonal balance\, weight\, and overall health\, while also shedding light on common health concerns women often overlook. From navigating perimenopause to understanding the connection between physical health\, mental wellness\, and emotional resilience\, our speakers will provide both clinical insight and practical strategies that women can apply in their everyday lives. \nAttendees will walk away with a deeper understanding of their bodies\, along with realistic\, sustainable approaches to wellness\, including the role of nutrition\, movement\, and rest in supporting long-term health. Whether you are just beginning your wellness journey or looking to reset and realign\, this conversation will equip you with the knowledge\, tools\, and confidence to take a more proactive approach to your well-being. \nBecause prioritizing yourself isn’t a luxury\, it’s a necessity! \nREGISTER NOW!
URL:https://distinctivelyher.org/event/the-power-of-prioritizing-you-may-mini-masterclass/
LOCATION:The DEC Network\, 3560 W Camp Wisdom Rd STE 200\, Dallas\, 75237\, United States
CATEGORIES:Mini Masterclasses Series
ATTACH;FMTTYPE=image/png:https://distinctivelyher.org/wp-content/uploads/2026/04/Masterclass-College-Bound-Flyers.png
ORGANIZER;CN="Distinctively Her":MAILTO:info@distinctivelyher.org
END:VEVENT
END:VCALENDAR